BEGIN:VCALENDAR
VERSION:2.0
PRODID:-//Five Star Timing - ECPv6.15.18//NONSGML v1.0//EN
CALSCALE:GREGORIAN
METHOD:PUBLISH
X-WR-CALNAME:Five Star Timing
X-ORIGINAL-URL:https://www.fivestartiming.com
X-WR-CALDESC:Events for Five Star Timing
REFRESH-INTERVAL;VALUE=DURATION:PT1H
X-Robots-Tag:noindex
X-PUBLISHED-TTL:PT1H
BEGIN:VTIMEZONE
TZID:America/Denver
BEGIN:DAYLIGHT
TZOFFSETFROM:-0700
TZOFFSETTO:-0600
TZNAME:MDT
DTSTART:20210314T090000
END:DAYLIGHT
BEGIN:STANDARD
TZOFFSETFROM:-0600
TZOFFSETTO:-0700
TZNAME:MST
DTSTART:20211107T080000
END:STANDARD
BEGIN:DAYLIGHT
TZOFFSETFROM:-0700
TZOFFSETTO:-0600
TZNAME:MDT
DTSTART:20220313T090000
END:DAYLIGHT
BEGIN:STANDARD
TZOFFSETFROM:-0600
TZOFFSETTO:-0700
TZNAME:MST
DTSTART:20221106T080000
END:STANDARD
BEGIN:DAYLIGHT
TZOFFSETFROM:-0700
TZOFFSETTO:-0600
TZNAME:MDT
DTSTART:20230312T090000
END:DAYLIGHT
BEGIN:STANDARD
TZOFFSETFROM:-0600
TZOFFSETTO:-0700
TZNAME:MST
DTSTART:20231105T080000
END:STANDARD
END:VTIMEZONE
BEGIN:VEVENT
DTSTART;VALUE=DATE:20220917
DTEND;VALUE=DATE:20220918
DTSTAMP:20260422T025343
CREATED:20220314T222610Z
LAST-MODIFIED:20220314T222610Z
UID:713-1663372800-1663459199@www.fivestartiming.com
SUMMARY:Superhero 5k/10k
DESCRIPTION:
URL:https://www.fivestartiming.com/events/superhero-5k-10k/
LOCATION:Greeley Family Funplex\, 1501 65th Ave\, Greeley\, CO\, 80634\, United States
CATEGORIES:10k Race,5k Race
ATTACH;FMTTYPE=image/png:https://www.fivestartiming.com/wp-content/uploads/2021/12/SH-logo-with-auto.png
ORGANIZER;CN="Life Stories Child and Family Advocacy":MAILTO:contact@lifestoriesweld.org
END:VEVENT
END:VCALENDAR